BEGIN:VCALENDAR
PRODID:-//AT Content Types//AT Event//EN
VERSION:1.0
BEGIN:VEVENT
DTSTART:20170530T110000Z
DTEND:20170530T115000Z
DCREATED:20170530T101032Z
UID:ATEvent-8615fde1-6e16-46b5-ac85-900d7d25758e
SEQUENCE:0
LAST-MODIFIED:20170530T124413Z
SUMMARY:Targeta de crèdit de l'EMT.
PRIORITY:3
TRANSP:0
END:VEVENT
END:VCALENDAR
