BEGIN:VCALENDAR
PRODID:-//AT Content Types//AT Event//EN
VERSION:2.0
METHOD:PUBLISH
BEGIN:VEVENT
DTSTAMP:20260424T032633Z
CREATED:20170519T104340Z
UID:ATEvent-f5188d3b-e02a-4d1a-80da-3f2b35595457
LAST-MODIFIED:20170519T115813Z
SUMMARY:Últimes novetats Minipop 2017*
DTSTART:20170522T090000Z
DTEND:20170522T090000Z
CLASS:PUBLIC
END:VEVENT
END:VCALENDAR
