BEGIN:VCALENDAR
PRODID:-//AT Content Types//AT Event//EN
VERSION:1.0
BEGIN:VEVENT
DTSTART:20170702T100000Z
DTEND:20170702T103000Z
DCREATED:20170703T121749Z
UID:ATEvent-46078cab-288b-4d8e-93a3-5a855fe74cb1
SEQUENCE:0
LAST-MODIFIED:20170703T121755Z
SUMMARY:Veredicte del 27è Concurs de Focs Artificials
PRIORITY:3
TRANSP:0
END:VEVENT
END:VCALENDAR
