BEGIN:VCALENDAR
PRODID:-//AT Content Types//AT Event//EN
VERSION:1.0
BEGIN:VEVENT
DTSTART:20170705T090000Z
DTEND:20170705T093000Z
DCREATED:20170703T121457Z
UID:ATEvent-ca355e4c-0f6d-44ce-8cd7-ed00df4453ff
SEQUENCE:0
LAST-MODIFIED:20170703T121504Z
SUMMARY:Visita a les obres de remodelació del Complex Esportiu de Campclar
PRIORITY:3
TRANSP:0
END:VEVENT
END:VCALENDAR
