BEGIN:VCALENDAR
PRODID:-//AT Content Types//AT Event//EN
VERSION:1.0
BEGIN:VEVENT
DTSTART:20170513T144500Z
DTEND:20170513T160500Z
DCREATED:20170515T070415Z
UID:ATEvent-a37dd951-f4ad-479c-98e9-860cf9712c07
SEQUENCE:0
LAST-MODIFIED:20170515T111525Z
SUMMARY:Visita de l’expresident del Govern espanyol José Luis Rodríguez Zapatero a l’Anella Mediterrània
PRIORITY:3
TRANSP:0
END:VEVENT
END:VCALENDAR
