BEGIN:VCALENDAR
PRODID:-//AT Content Types//AT Event//EN
VERSION:2.0
METHOD:PUBLISH
BEGIN:VEVENT
DTSTAMP:20260424T194615Z
CREATED:20181127T131214Z
UID:ATEvent-6a790957-e16c-4e83-a6d6-804a22989b98
LAST-MODIFIED:20181127T133443Z
SUMMARY:Activitats de Nadal
DTSTART:20181128T090000Z
DTEND:20181128T093000Z
CLASS:PUBLIC
END:VEVENT
END:VCALENDAR
