BEGIN:VCALENDAR
PRODID:-//AT Content Types//AT Event//EN
VERSION:1.0
BEGIN:VEVENT
DTSTART:20180912T073000Z
DTEND:20180912T080000Z
DCREATED:20180910T110658Z
UID:ATEvent-9520eaf9-fa4a-402d-9271-5a73ca35c2ff
SEQUENCE:0
LAST-MODIFIED:20180912T083355Z
SUMMARY:Marató de sang
PRIORITY:3
TRANSP:0
END:VEVENT
END:VCALENDAR
