BEGIN:VCALENDAR
PRODID:-//AT Content Types//AT Event//EN
VERSION:2.0
METHOD:PUBLISH
BEGIN:VEVENT
DTSTAMP:20260424T160103Z
CREATED:20180618T101243Z
UID:ATEvent-5493ce82-cd49-4c4b-ac1e-09ec32dd848e
LAST-MODIFIED:20180619T101727Z
SUMMARY:Intervenció a la zona del Circ de la plaça Sedassos
DTSTART:20180619T080000Z
DTEND:20180619T083000Z
CLASS:PUBLIC
END:VEVENT
END:VCALENDAR
