BEGIN:VCALENDAR
PRODID:-//AT Content Types//AT Event//EN
VERSION:2.0
METHOD:PUBLISH
BEGIN:VEVENT
DTSTAMP:20260424T113759Z
CREATED:20180305T120809Z
UID:ATEvent-ef4db639-b4e8-422d-bf7d-b72b3913272a
LAST-MODIFIED:20180306T122253Z
SUMMARY:Presentació de la Jornada ‘Castells des d’una perspectiva de gènere’
DTSTART:20180306T100000Z
DTEND:20180306T103000Z
CLASS:PUBLIC
END:VEVENT
END:VCALENDAR
