BEGIN:VCALENDAR
PRODID:-//AT Content Types//AT Event//EN
VERSION:1.0
BEGIN:VEVENT
DTSTART:20181220T093000Z
DTEND:20181220T103000Z
DCREATED:20181219T131339Z
UID:ATEvent-5f89acba-5075-46cf-94d5-55fc0219f728
SEQUENCE:0
LAST-MODIFIED:20181219T142956Z
SUMMARY:Presentació del projecte Rambla Science per a l’edifici del Banc d’Espanya
PRIORITY:3
TRANSP:0
END:VEVENT
END:VCALENDAR
