BEGIN:VCALENDAR
PRODID:-//AT Content Types//AT Event//EN
VERSION:2.0
METHOD:PUBLISH
BEGIN:VEVENT
DTSTAMP:20260424T205631Z
CREATED:20190205T120123Z
UID:ATEvent-2e9d9688-1eca-4422-9b3a-626a910b6e86
LAST-MODIFIED:20190205T121742Z
SUMMARY:Balanç de la Brigada d'Intervenció Ràpida
DTSTART:20190206T103000Z
DTEND:20190206T113000Z
CONTACT:6256
CLASS:PUBLIC
END:VEVENT
END:VCALENDAR
