BEGIN:VCALENDAR
PRODID:-//AT Content Types//AT Event//EN
VERSION:2.0
METHOD:PUBLISH
BEGIN:VEVENT
DTSTAMP:20260425T004743Z
CREATED:20190709T080431Z
UID:ATEvent-5a73ac62-252c-4b99-80b9-322b95752a6c
LAST-MODIFIED:20190709T093839Z
SUMMARY:Miasa
DTSTART:20190707T080000Z
DTEND:20190707T083000Z
CLASS:PUBLIC
END:VEVENT
END:VCALENDAR
