BEGIN:VCALENDAR
PRODID:-//AT Content Types//AT Event//EN
VERSION:1.0
BEGIN:VEVENT
DTSTART:20190220T110000Z
DTEND:20190220T113000Z
DCREATED:20190219T134951Z
UID:ATEvent-7e0b311c-22f8-4c60-a453-d79905750717
SEQUENCE:0
LAST-MODIFIED:20190220T100021Z
SUMMARY:Obres aparcament dissuasiu Nacional 340
PRIORITY:3
TRANSP:0
END:VEVENT
END:VCALENDAR
