BEGIN:VCALENDAR
PRODID:-//AT Content Types//AT Event//EN
VERSION:2.0
METHOD:PUBLISH
BEGIN:VEVENT
DTSTAMP:20260424T212002Z
CREATED:20190122T130254Z
UID:ATEvent-e6a52f7d-ddcc-471d-bfee-5a168a126cc7
LAST-MODIFIED:20190122T135355Z
SUMMARY:Posada en marxa 1a fase projecte ‘Bus gratuït’
DTSTART:20190123T101500Z
DTEND:20190123T104500Z
CLASS:PUBLIC
END:VEVENT
END:VCALENDAR
