BEGIN:VCALENDAR
PRODID:-//AT Content Types//AT Event//EN
VERSION:2.0
METHOD:PUBLISH
BEGIN:VEVENT
DTSTAMP:20260425T021032Z
CREATED:20191105T124245Z
UID:ATEvent-8d7b7c29-7ec8-4a13-b7f3-701237f7a295
LAST-MODIFIED:20191106T082528Z
SUMMARY:Presentació de la 28a Edició de la Mitja Marató + 10k Ciutat de Tarragona
DTSTART:20191106T090000Z
DTEND:20191106T100000Z
CONTACT:6256
CLASS:PUBLIC
END:VEVENT
END:VCALENDAR
