BEGIN:VCALENDAR
PRODID:-//AT Content Types//AT Event//EN
VERSION:1.0
BEGIN:VEVENT
DTSTART:20260218T160000Z
DTEND:20260218T180000Z
DCREATED:20260216T122708Z
UID:ATEvent-198106c0-2c15-493e-86a1-95cd82984841
SEQUENCE:0
LAST-MODIFIED:20260216T124332Z
SUMMARY:Taller de costomització de roba
PRIORITY:3
TRANSP:0
END:VEVENT
END:VCALENDAR
