BEGIN:VCALENDAR
PRODID:-//AT Content Types//AT Event//EN
VERSION:2.0
METHOD:PUBLISH
BEGIN:VEVENT
DTSTAMP:20260420T185348Z
CREATED:20250407T174450Z
UID:ATEvent-895b2c93-1dc5-4637-872e-e7ab5121442c
LAST-MODIFIED:20260310T110938Z
SUMMARY:English corner
DTSTART:20260310T113000Z
DTEND:20260310T123000Z
CATEGORIES:Igualtat i Feminismes,LGTBI
CLASS:PUBLIC
END:VEVENT
END:VCALENDAR
