BEGIN:VCALENDAR
PRODID:-//AT Content Types//AT Event//EN
VERSION:2.0
METHOD:PUBLISH
BEGIN:VEVENT
DTSTAMP:20260423T195027Z
CREATED:20250407T174450Z
UID:ATEvent-0ac6c807-6706-40de-99dd-41de0e47478e
LAST-MODIFIED:20260310T111312Z
SUMMARY:English corner
DTSTART:20260324T113000Z
DTEND:20260324T123000Z
CATEGORIES:Igualtat i Feminismes,LGTBI
CLASS:PUBLIC
END:VEVENT
END:VCALENDAR
