BEGIN:VCALENDAR
PRODID:-//AT Content Types//AT Event//EN
VERSION:1.0
BEGIN:VEVENT
DTSTART:20260217T190000Z
DTEND:20260217T200000Z
DCREATED:20260216T122708Z
UID:ATEvent-6b85f21b-c2a6-4c61-9052-828d944e4240
SEQUENCE:0
LAST-MODIFIED:20260216T123749Z
SUMMARY:Taller de meditació\: Espai Calma
PRIORITY:3
TRANSP:0
END:VEVENT
END:VCALENDAR
