BEGIN:VCALENDAR
PRODID:-//AT Content Types//AT Event//EN
VERSION:2.0
METHOD:PUBLISH
BEGIN:VEVENT
DTSTAMP:20260421T101204Z
CREATED:20260421T061914Z
UID:ATEvent-78ac2ced-37ff-4b75-8c07-388284697802
LAST-MODIFIED:20260421T061922Z
SUMMARY:Cafè feminista de Fridas. 'Green flags'\: Parlem del que sí volem
DTSTART:20260506T160000Z
DTEND:20260506T173000Z
CATEGORIES:Igualtat i Feminismes
CLASS:PUBLIC
END:VEVENT
END:VCALENDAR
