BEGIN:VCALENDAR
PRODID:-//AT Content Types//AT Event//EN
VERSION:1.0
BEGIN:VEVENT
DTSTART:20260522T170000Z
DTEND:20260522T183000Z
DCREATED:20260313T081533Z
UID:ATEvent-544c3167-93e1-46bb-bc77-d97feedaa22e
SEQUENCE:0
LAST-MODIFIED:20260313T083353Z
SUMMARY:TetaFest 2026\: PreTeta Afterwork
PRIORITY:3
TRANSP:0
END:VEVENT
END:VCALENDAR
