BEGIN:VCALENDAR
PRODID:-//AT Content Types//AT Event//EN
VERSION:2.0
METHOD:PUBLISH
BEGIN:VEVENT
DTSTAMP:20260423T195211Z
CREATED:20260313T081533Z
UID:ATEvent-8caaabb5-1209-4b30-8e79-fe137abb8691
LAST-MODIFIED:20260313T082112Z
SUMMARY:TetaFest 2026\: Vanesa Martín\, Alosa\, Marisa Valle Roso
DTSTART:20260530T170000Z
DTEND:20260530T215500Z
CATEGORIES:Cultura
CLASS:PUBLIC
END:VEVENT
END:VCALENDAR
