BEGIN:VCALENDAR
PRODID:-//AT Content Types//AT Event//EN
VERSION:1.0
BEGIN:VEVENT
DTSTART:20260322T120000Z
DTEND:20260322T130000Z
DCREATED:20260313T084054Z
UID:ATEvent-9464b89d-76a5-4cf3-8ade-66f9062d3c89
SEQUENCE:0
LAST-MODIFIED:20260313T085954Z
SUMMARY:Què trames?
PRIORITY:3
TRANSP:0
END:VEVENT
END:VCALENDAR
