BEGIN:VCALENDAR
PRODID:-//AT Content Types//AT Event//EN
VERSION:1.0
BEGIN:VEVENT
DTSTART:20260528T170000Z
DTEND:20260528T184000Z
DCREATED:20260422T113712Z
UID:ATEvent-60aead8c-a05f-47f2-b82c-3a4e79bec314
SEQUENCE:0
LAST-MODIFIED:20260422T113724Z
SUMMARY:“WADJDA. LA BICICLETA VERDA”\, de Haifaa al-Mansour. Cinema
PRIORITY:3
TRANSP:0
END:VEVENT
END:VCALENDAR
