BEGIN:VCALENDAR
PRODID:-//AT Content Types//AT Event//EN
VERSION:2.0
METHOD:PUBLISH
BEGIN:VEVENT
DTSTAMP:20260421T150203Z
CREATED:20260421T114307Z
UID:ATEvent-4c748a7f-4814-4eb7-9d7d-9afd8f2dbc9e
LAST-MODIFIED:20260421T114514Z
SUMMARY:A dos amb la Cia La Latente dansa
DTSTART:20260515T180000Z
DTEND:20260515T190000Z
CONTACT:977296251
CLASS:PUBLIC
END:VEVENT
END:VCALENDAR
