BEGIN:VCALENDAR
PRODID:-//AT Content Types//AT Event//EN
VERSION:1.0
BEGIN:VEVENT
DTSTART:20260522T180000Z
DTEND:20260522T190000Z
DCREATED:20260422T093141Z
UID:ATEvent-fd390d92-5ff6-4032-b165-e46c70b022a4
SEQUENCE:0
LAST-MODIFIED:20260422T093232Z
SUMMARY:Apropant la màgia\, el circ i l’humor a tothom
PRIORITY:3
TRANSP:0
END:VEVENT
END:VCALENDAR
