BEGIN:VCALENDAR
PRODID:-//AT Content Types//AT Event//EN
VERSION:1.0
BEGIN:VEVENT
DTSTART:20260507T150000Z
DTEND:20260507T163000Z
DCREATED:20260421T104531Z
UID:ATEvent-508db749-71f8-4a7f-94b6-e3c165a0dcaf
SEQUENCE:0
LAST-MODIFIED:20260421T104559Z
SUMMARY:Ballar un poema
PRIORITY:3
TRANSP:0
END:VEVENT
END:VCALENDAR
