BEGIN:VCALENDAR
PRODID:-//AT Content Types//AT Event//EN
VERSION:1.0
BEGIN:VEVENT
DTSTART:20260505T153000Z
DTEND:20260505T170000Z
DCREATED:20260421T100122Z
UID:ATEvent-2c765d61-c2da-4cd2-8bf5-f2a920afd17b
SEQUENCE:0
LAST-MODIFIED:20260421T103320Z
SUMMARY:Bar el Tremendu | Cuina amb professionals
PRIORITY:3
TRANSP:0
END:VEVENT
END:VCALENDAR
