BEGIN:VCALENDAR
PRODID:-//AT Content Types//AT Event//EN
VERSION:1.0
BEGIN:VEVENT
DTSTART:20260425T180000Z
DTEND:20260425T190000Z
DCREATED:20260421T082936Z
UID:ATEvent-10a3af4c-4c85-4cc2-a90a-87cb448e0319
SEQUENCE:0
LAST-MODIFIED:20260421T102622Z
SUMMARY:Cabaret màgic amb Gneis
PRIORITY:3
TRANSP:0
END:VEVENT
END:VCALENDAR
