BEGIN:VCALENDAR
PRODID:-//AT Content Types//AT Event//EN
VERSION:1.0
BEGIN:VEVENT
DTSTART:20260519T153000Z
DTEND:20260519T170000Z
DCREATED:20260422T085152Z
UID:ATEvent-3d9f1620-283a-448b-ba76-c3a21f7041cb
SEQUENCE:0
LAST-MODIFIED:20260422T085203Z
SUMMARY:Carnisseria Meritxell | Cuina amb professionals
PRIORITY:3
TRANSP:0
END:VEVENT
END:VCALENDAR
