BEGIN:VCALENDAR
PRODID:-//AT Content Types//AT Event//EN
VERSION:2.0
METHOD:PUBLISH
BEGIN:VEVENT
DTSTAMP:20260422T082130Z
CREATED:20260218T120902Z
UID:ATEvent-12036946-ae65-4eaf-9020-5037be92b8fb
LAST-MODIFIED:20260316T094111Z
SUMMARY:Circuit d’aventura
DTSTART:20260425T070000Z
DTEND:20260425T080000Z
CONTACT:977296251
CLASS:PUBLIC
END:VEVENT
END:VCALENDAR
