BEGIN:VCALENDAR
PRODID:-//AT Content Types//AT Event//EN
VERSION:1.0
BEGIN:VEVENT
DTSTART:20260629T171500Z
DTEND:20260703T184500Z
DCREATED:20260330T072522Z
UID:ATEvent-90bc9f9f-d1d9-45bd-a1a3-cb3f7eeea0a6
SEQUENCE:0
LAST-MODIFIED:20260330T072746Z
SUMMARY:Estiu | Summer Week. Cant coral Torn 2
PRIORITY:3
TRANSP:0
END:VEVENT
END:VCALENDAR
