BEGIN:VCALENDAR
PRODID:-//AT Content Types//AT Event//EN
VERSION:2.0
METHOD:PUBLISH
BEGIN:VEVENT
DTSTAMP:20260419T192729Z
CREATED:20260330T074830Z
UID:ATEvent-00f95ada-46bf-4d59-a1f9-f8e4b6fe00cb
LAST-MODIFIED:20260330T075046Z
SUMMARY:Estiu | Summer Week. Escriptura creativa Torn 2
DTSTART:20260803T160000Z
DTEND:20260807T180000Z
CONTACT:977296251
CLASS:PUBLIC
END:VEVENT
END:VCALENDAR
