BEGIN:VCALENDAR
PRODID:-//AT Content Types//AT Event//EN
VERSION:1.0
BEGIN:VEVENT
DTSTART:20260810T140000Z
DTEND:20260814T160000Z
DCREATED:20260330T110735Z
UID:ATEvent-2f5bba91-8f1c-4e2b-a80a-d5053b3bf570
SEQUENCE:0
LAST-MODIFIED:20260330T110947Z
SUMMARY:Estiu  | Summer Week. Iniciació a la llengua japonesa. Torn 2
PRIORITY:3
TRANSP:0
END:VEVENT
END:VCALENDAR
