BEGIN:VCALENDAR
PRODID:-//AT Content Types//AT Event//EN
VERSION:1.0
BEGIN:VEVENT
DTSTART:20260527T153000Z
DTEND:20260527T170000Z
DCREATED:20260422T112602Z
UID:ATEvent-4bbe02be-5909-48fd-a571-b39b919e57ae
SEQUENCE:0
LAST-MODIFIED:20260422T112617Z
SUMMARY:Dia creatiu\: decora l’espai
PRIORITY:3
TRANSP:0
END:VEVENT
END:VCALENDAR
