BEGIN:VCALENDAR
PRODID:-//AT Content Types//AT Event//EN
VERSION:1.0
BEGIN:VEVENT
DTSTART:20260508T180000Z
DTEND:20260508T193000Z
DCREATED:20260421T110149Z
UID:ATEvent-916f4c36-397e-4670-8e47-e892be60a464
SEQUENCE:0
LAST-MODIFIED:20260421T110345Z
SUMMARY:Espectacle de Stand-up comedy (en anglès i català)
PRIORITY:3
TRANSP:0
END:VEVENT
END:VCALENDAR
