BEGIN:VCALENDAR
PRODID:-//AT Content Types//AT Event//EN
VERSION:2.0
METHOD:PUBLISH
BEGIN:VEVENT
DTSTAMP:20260419T193819Z
CREATED:20260330T093820Z
UID:ATEvent-52eb0dca-c9c0-49fa-9459-af746840ce87
LAST-MODIFIED:20260402T154105Z
SUMMARY:Estiu | Summer Week. Curs de monitor/a de lleure educatiu. Intensiu
DTSTART:20260727T070000Z
DTEND:20260810T110000Z
CONTACT:977296251
CLASS:PUBLIC
END:VEVENT
END:VCALENDAR
