BEGIN:VCALENDAR
PRODID:-//AT Content Types//AT Event//EN
VERSION:1.0
BEGIN:VEVENT
DTSTART:20260713T080000Z
DTEND:20260717T110000Z
DCREATED:20260330T113630Z
UID:ATEvent-6e9d87da-56ef-4aa2-be3e-1b1902d11e2a
SEQUENCE:0
LAST-MODIFIED:20260330T113650Z
SUMMARY:Estiu  | Laboratori de dansa\: creació escènica
PRIORITY:3
TRANSP:0
END:VEVENT
END:VCALENDAR
