BEGIN:VCALENDAR
PRODID:-//AT Content Types//AT Event//EN
VERSION:2.0
METHOD:PUBLISH
BEGIN:VEVENT
DTSTAMP:20260419T195011Z
CREATED:20260330T113328Z
UID:ATEvent-caa5e7e2-7ba0-4700-ba67-9721f6e9fbba
LAST-MODIFIED:20260330T113642Z
SUMMARY:Estiu | Laboratori de dansa i audiovisual
DTSTART:20260706T080000Z
DTEND:20260710T110000Z
CONTACT:977296251
CLASS:PUBLIC
END:VEVENT
END:VCALENDAR
