BEGIN:VCALENDAR
PRODID:-//AT Content Types//AT Event//EN
VERSION:1.0
BEGIN:VEVENT
DTSTART:20260721T090000Z
DTEND:20260724T110000Z
DCREATED:20260330T114011Z
UID:ATEvent-b5d94edb-ede6-4ae3-b8d8-33f57d98f15a
SEQUENCE:0
LAST-MODIFIED:20260330T114021Z
SUMMARY:Estiu  | Laboratori de folk
PRIORITY:3
TRANSP:0
END:VEVENT
END:VCALENDAR
