BEGIN:VCALENDAR
PRODID:-//AT Content Types//AT Event//EN
VERSION:1.0
BEGIN:VEVENT
DTSTART:20260803T140000Z
DTEND:20260807T160000Z
DCREATED:20260330T114417Z
UID:ATEvent-a2098cd3-c9b1-4b11-b1a6-f1fd804620dd
SEQUENCE:0
LAST-MODIFIED:20260330T114604Z
SUMMARY:Estiu | Laboratori de KPop | Nivell intermig
PRIORITY:3
TRANSP:0
END:VEVENT
END:VCALENDAR
