BEGIN:VCALENDAR
PRODID:-//AT Content Types//AT Event//EN
VERSION:2.0
METHOD:PUBLISH
BEGIN:VEVENT
DTSTAMP:20260419T235630Z
CREATED:20260330T112253Z
UID:ATEvent-17cabf3f-fd5b-46a8-800b-8433fcb9d07d
LAST-MODIFIED:20260330T112541Z
SUMMARY:Estiu | Laboratori de pallassades. Introducció al clown
DTSTART:20260606T150000Z
DTEND:20260709T170000Z
CONTACT:977296251
CLASS:PUBLIC
END:VEVENT
END:VCALENDAR
