BEGIN:VCALENDAR
PRODID:-//AT Content Types//AT Event//EN
VERSION:2.0
METHOD:PUBLISH
BEGIN:VEVENT
DTSTAMP:20260419T192647Z
CREATED:20260330T114223Z
UID:ATEvent-f1732bbb-5b64-43f6-b09a-dd5fddbf5f64
LAST-MODIFIED:20260330T114425Z
SUMMARY:Estiu | Laboratori de pop rural
DTSTART:20260729T140000Z
DTEND:20260730T163500Z
CONTACT:977296251
CLASS:PUBLIC
END:VEVENT
END:VCALENDAR
