BEGIN:VCALENDAR
PRODID:-//AT Content Types//AT Event//EN
VERSION:1.0
BEGIN:VEVENT
DTSTART:20260625T100000Z
DTEND:20260626T113000Z
DCREATED:20260330T111712Z
UID:ATEvent-c6f2dff1-6d03-479a-b34d-36b6cc0a31ff
SEQUENCE:0
LAST-MODIFIED:20260330T111725Z
SUMMARY:Estiu | Laboratori màgic amb nous trucs sorprenents de màgia!
PRIORITY:3
TRANSP:0
END:VEVENT
END:VCALENDAR
