BEGIN:VCALENDAR
PRODID:-//AT Content Types//AT Event//EN
VERSION:2.0
METHOD:PUBLISH
BEGIN:VEVENT
DTSTAMP:20260419T193059Z
CREATED:20260330T085901Z
UID:ATEvent-65a819a8-d2ab-471c-9a98-97a13fe5997a
LAST-MODIFIED:20260330T090426Z
SUMMARY:Estiu | Summer Week de còmic i drets humans. La memòria entre vinyetes.
DTSTART:20260720T080000Z
DTEND:20260724T100000Z
CONTACT:977296251
CLASS:PUBLIC
END:VEVENT
END:VCALENDAR
