BEGIN:VCALENDAR
PRODID:-//AT Content Types//AT Event//EN
VERSION:1.0
BEGIN:VEVENT
DTSTART:20260810T073000Z
DTEND:20260814T093000Z
DCREATED:20260330T110111Z
UID:ATEvent-bd7a807d-d242-41d8-8098-9b8c95fea63d
SEQUENCE:0
LAST-MODIFIED:20260330T110122Z
SUMMARY:Estiu | Summer Week de Twerk
PRIORITY:3
TRANSP:0
END:VEVENT
END:VCALENDAR
