BEGIN:VCALENDAR
PRODID:-//AT Content Types//AT Event//EN
VERSION:2.0
METHOD:PUBLISH
BEGIN:VEVENT
DTSTAMP:20260419T193044Z
CREATED:20260330T073136Z
UID:ATEvent-93f28801-e0b5-4cd2-aa5b-33736ac0db02
LAST-MODIFIED:20260330T073150Z
SUMMARY:Estiu | Summer Week laboral. L'acceleradora per trobar treball!
DTSTART:20260706T093000Z
DTEND:20260710T113000Z
CONTACT:977296251
CLASS:PUBLIC
END:VEVENT
END:VCALENDAR
