BEGIN:VCALENDAR
PRODID:-//AT Content Types//AT Event//EN
VERSION:1.0
BEGIN:VEVENT
DTSTART:20260803T080000Z
DTEND:20260811T113000Z
DCREATED:20260330T105248Z
UID:ATEvent-54b06d11-d363-49a2-b6e7-5e6dbdb9e0ba
SEQUENCE:0
LAST-MODIFIED:20260330T105317Z
SUMMARY:Estiu | Summer Week. Autoconnexions. Reconnecta amb tu
PRIORITY:3
TRANSP:0
END:VEVENT
END:VCALENDAR
