BEGIN:VCALENDAR
PRODID:-//AT Content Types//AT Event//EN
VERSION:2.0
METHOD:PUBLISH
BEGIN:VEVENT
DTSTAMP:20260419T192756Z
CREATED:20260330T085540Z
UID:ATEvent-d4d95402-1b28-4b18-989a-02ada15e7b57
LAST-MODIFIED:20260330T085552Z
SUMMARY:Estiu | Summer Week. Autodefensa personal
DTSTART:20260720T080000Z
DTEND:20260724T100000Z
CONTACT:977296251
CLASS:PUBLIC
END:VEVENT
END:VCALENDAR
