BEGIN:VCALENDAR
PRODID:-//AT Content Types//AT Event//EN
VERSION:2.0
METHOD:PUBLISH
BEGIN:VEVENT
DTSTAMP:20260419T192919Z
CREATED:20260330T072522Z
UID:ATEvent-717f88ed-ab22-48f6-88a1-2284ff516e53
LAST-MODIFIED:20260330T072628Z
SUMMARY:Estiu | Summer Week. Cant coral Torn 1
DTSTART:20260629T090000Z
DTEND:20260703T110000Z
CONTACT:977296251
CLASS:PUBLIC
END:VEVENT
END:VCALENDAR
